BEGIN:VCALENDAR
VERSION:2.0
PRODID:-//WP EVENT Manager Ical//NONSGML Events//EN
CALSCALE:GREGORIAN
BEGIN:VTIMEZONE
TZID:Asia/Kolkata
BEGIN:STANDARD
DTSTART:19700101T000000
TZOFFSETFROM:+0530
TZOFFSETTO:+0530
END:STANDARD
END:VTIMEZONE
BEGIN:VEVENT
UID:69e6335da1609@alabamartp.org
DTSTAMP:20260420T140829Z
DTSTART;TZID=Asia/Kolkata:20260622T073000
DTEND;TZID=Asia/Kolkata:20260625T163000
LOCATION:6506 U.S. Hwy 31, Tanner, AL 35671
SUMMARY:Welding: Introduction to GTAW (6-22-2026)
DESCRIPTION:GTAW welding, also known as TIG welding, stands for Gas Tungsten Arc Welding
END:VEVENT
END:VCALENDAR