BEGIN:VCALENDAR
VERSION:2.0
PRODID:-//WP EVENT Manager Ical//NONSGML Events//EN
CALSCALE:GREGORIAN
BEGIN:VTIMEZONE
TZID:Asia/Kolkata
BEGIN:STANDARD
DTSTART:19700101T000000
TZOFFSETFROM:+0530
TZOFFSETTO:+0530
END:STANDARD
END:VTIMEZONE
BEGIN:VEVENT
UID:69eb256c23702@alabamartp.org
DTSTAMP:20260424T081020Z
DTSTART;TZID=Asia/Kolkata:20260427T073000
DTEND;TZID=Asia/Kolkata:20260430T163000
LOCATION:6506 U.S. Hwy 31, Tanner, AL 35671
SUMMARY:Rockwell CCV204-A Training Course Factorytalk View Me Panelview Plus Programming (4-27-2026)
DESCRIPTION:This skill-building course provides you with the skills necessary to develop FactoryTalk View Machine Edition (ME) applications that run on the next-generation PanelView Plus terminals.
END:VEVENT
END:VCALENDAR