BEGIN:VCALENDAR
VERSION:2.0
PRODID:-//WP EVENT Manager Ical//NONSGML Events//EN
CALSCALE:GREGORIAN
BEGIN:VTIMEZONE
TZID:Asia/Kolkata
BEGIN:STANDARD
DTSTART:19700101T000000
TZOFFSETFROM:+0530
TZOFFSETTO:+0530
END:STANDARD
END:VTIMEZONE
BEGIN:VEVENT
UID:69e64527d49b6@alabamartp.org
DTSTAMP:20260420T152423Z
DTSTART;TZID=Asia/Kolkata:20260622T073000
DTEND;TZID=Asia/Kolkata:20260625T163000
LOCATION:6506 U.S. Hwy 31, Tanner, AL 35671
SUMMARY:Rockwell CCP153 Training Course Controllogix Maintenance and Troubleshooting (6-22-2026)
DESCRIPTION:The basic skills taught in this course apply to all Logix5000 platforms; you can apply what you have learned to the specific platform used in your plant. Throughout this course, you will have the opportunity to practice the skills you have learned through a variety of hands-on exercises
END:VEVENT
END:VCALENDAR