BEGIN:VCALENDAR
VERSION:2.0
PRODID:-//WP EVENT Manager Ical//NONSGML Events//EN
CALSCALE:GREGORIAN
BEGIN:VTIMEZONE
TZID:Asia/Kolkata
BEGIN:STANDARD
DTSTART:19700101T000000
TZOFFSETFROM:+0530
TZOFFSETTO:+0530
END:STANDARD
END:VTIMEZONE
BEGIN:VEVENT
UID:69e62f757ab92@alabamartp.org
DTSTAMP:20260420T135149Z
DTSTART;TZID=Asia/Kolkata:20260511T073000
DTEND;TZID=Asia/Kolkata:20260514T163000
LOCATION:6506 U.S. Hwy 31, Tanner, AL 35671
SUMMARY:Rockwell CCP146 Studio 5000 Logix Designer Level 1: ControlLogix System Fundamentals (5-11-2026)
DESCRIPTION:The course will assist you in developing and buildinga solid foundation with a fundamental knowledge ofControlLogix and other Logix5000™ systems.
END:VEVENT
END:VCALENDAR