BEGIN:VCALENDAR
VERSION:2.0
PRODID:-//WP EVENT Manager Ical//NONSGML Events//EN
CALSCALE:GREGORIAN
BEGIN:VTIMEZONE
TZID:Asia/Kolkata
BEGIN:STANDARD
DTSTART:19700101T000000
TZOFFSETFROM:+0530
TZOFFSETTO:+0530
END:STANDARD
END:VTIMEZONE
BEGIN:VEVENT
UID:69e6bd11a2092@alabamartp.org
DTSTAMP:20260420T235601Z
DTSTART;TZID=Asia/Kolkata:20260519T073000
DTEND;TZID=Asia/Kolkata:20260519T163000
LOCATION:6506 U.S. Hwy 31, Tanner, AL 35671
SUMMARY:Pac/Oxyfuel Safety Class (5-19-2026)
DESCRIPTION:Explain the safety requirements for oxyfuel and plasma arc cutting and equipment set up. Explain how to light and adjust oxyfuel. Explain and identify correct amperage and gas pressure.
END:VEVENT
END:VCALENDAR