BEGIN:VCALENDAR
VERSION:2.0
PRODID:-//WP EVENT Manager Ical//NONSGML Events//EN
CALSCALE:GREGORIAN
BEGIN:VTIMEZONE
TZID:Asia/Kolkata
BEGIN:STANDARD
DTSTART:19700101T000000
TZOFFSETFROM:+0530
TZOFFSETTO:+0530
END:STANDARD
END:VTIMEZONE
BEGIN:VEVENT
UID:69e8b2e5f3854@alabamartp.org
DTSTAMP:20260422T113709Z
DTSTART;TZID=Asia/Kolkata:20260622T073000
DTEND;TZID=Asia/Kolkata:20260625T163000
LOCATION:6506 U.S. Hwy 31, Tanner, AL 35671
SUMMARY:Omron Sysmac Studio (6-22-2026)
DESCRIPTION:This course provides an introduction to the Omron family of PLC’s. Basic terminology, memory structures, and PLC operations are defined. I/O addressing is discussed as well as numbering systems including binary, BCD, hexadecimal, and decimal.  The class also provides basic programming skills for Omron PLC’s.  The course will cover wiring to and from the PLC, memory area definitions, and mapping. I/O allocations, control strategies, and an introduction to programming.  Computers will be provided to ensure hands-on experience creating PLC I/O tables, PLC programming, monitoring, and troubleshooting.
END:VEVENT
END:VCALENDAR