BEGIN:VCALENDAR
VERSION:2.0
PRODID:-//WP EVENT Manager Ical//NONSGML Events//EN
CALSCALE:GREGORIAN
BEGIN:VTIMEZONE
TZID:Asia/Kolkata
BEGIN:STANDARD
DTSTART:19700101T000000
TZOFFSETFROM:+0530
TZOFFSETTO:+0530
END:STANDARD
END:VTIMEZONE
BEGIN:VEVENT
UID:69e747f06bbf0@alabamartp.org
DTSTAMP:20260421T094832Z
DTSTART;TZID=Asia/Kolkata:20260323T073000
DTEND;TZID=Asia/Kolkata:20260326T163000
LOCATION:6506 U.S. Hwy 31, Tanner, AL 35671
SUMMARY:Motoman YRC1000 Basic Programming (3-23-2026)
DESCRIPTION:This course is an introduction to programming the YRC1000 controller. The course pertains to the programming of press tending, case packing, machine tending, and palletizing cells. No prior knowledge of robot programming or the YRC1000 controller is required.This course consists of classroom lectures, demonstrations, discussions and hands-on practice exercises.
END:VEVENT
END:VCALENDAR