BEGIN:VCALENDAR
VERSION:2.0
PRODID:-//WP EVENT Manager Ical//NONSGML Events//EN
CALSCALE:GREGORIAN
BEGIN:VTIMEZONE
TZID:Asia/Kolkata
BEGIN:STANDARD
DTSTART:19700101T000000
TZOFFSETFROM:+0530
TZOFFSETTO:+0530
END:STANDARD
END:VTIMEZONE
BEGIN:VEVENT
UID:69e8b45b6b004@alabamartp.org
DTSTAMP:20260422T114323Z
DTSTART;TZID=Asia/Kolkata:20260521T073000
DTEND;TZID=Asia/Kolkata:20260522T163000
LOCATION:6506 U.S. Hwy 31, Tanner, AL 35671
SUMMARY:Mitsubishi GX Works3 PLC Programming Class
DESCRIPTION:The Mitsubishi GX Works3 PLC Programming Class provides hands-on training in programming Mitsubishi MELSEC programmable logic controllers using GX Works3 engineering software
END:VEVENT
END:VCALENDAR