BEGIN:VCALENDAR
VERSION:2.0
PRODID:-//WP EVENT Manager Ical//NONSGML Events//EN
CALSCALE:GREGORIAN
BEGIN:VTIMEZONE
TZID:Asia/Kolkata
BEGIN:STANDARD
DTSTART:19700101T000000
TZOFFSETFROM:+0530
TZOFFSETTO:+0530
END:STANDARD
END:VTIMEZONE
BEGIN:VEVENT
UID:69e9e47006dbe@alabamartp.org
DTSTAMP:20260423T092048Z
DTSTART;TZID=Asia/Kolkata:20260526T070000
DTEND;TZID=Asia/Kolkata:20260527T153000
LOCATION:6506 U.S. Hwy 31, Tanner, AL 35671
SUMMARY:Cognex In-sight Easybuilder Standard (5-26-2026)
DESCRIPTION:The class offer users an overview of the hardware and software configuration used by In-Sight Vision Systems. With the focus on getting the most from the In-Sight Explorer EasyBuilder interface, users learn how to walk through the process of setting up a vision application using EasyBuilder best practices.
END:VEVENT
END:VCALENDAR