BEGIN:VCALENDAR
VERSION:2.0
PRODID:-//WP EVENT Manager Ical//NONSGML Events//EN
CALSCALE:GREGORIAN
BEGIN:VTIMEZONE
TZID:Asia/Kolkata
BEGIN:STANDARD
DTSTART:19700101T000000
TZOFFSETFROM:+0530
TZOFFSETTO:+0530
END:STANDARD
END:VTIMEZONE
BEGIN:VEVENT
UID:69e9e504941d7@alabamartp.org
DTSTAMP:20260423T092316Z
DTSTART;TZID=Asia/Kolkata:20260511T070000
DTEND;TZID=Asia/Kolkata:20260514T153000
LOCATION:6506 U.S. Hwy 31, Tanner, AL 35671
SUMMARY:Amatrol Electric Motor Control Systems – (5-11-2026)
DESCRIPTION:Amatrol’s Electric Motor Control Learning System (85-MT5) covers electric relay control of AC electric motors found in industrial, commercial, and residential applications. Learners study industry-relevant skills including how to operate, install, design, and troubleshoot AC electric motor control circuits for various applications. 
END:VEVENT
END:VCALENDAR