BEGIN:VCALENDAR
VERSION:2.0
PRODID:-//WP EVENT Manager Ical//NONSGML Events//EN
CALSCALE:GREGORIAN
BEGIN:VTIMEZONE
TZID:Asia/Kolkata
BEGIN:STANDARD
DTSTART:19700101T000000
TZOFFSETFROM:+0530
TZOFFSETTO:+0530
END:STANDARD
END:VTIMEZONE
BEGIN:VEVENT
UID:69e732231d506@alabamartp.org
DTSTAMP:20260421T081531Z
DTSTART;TZID=Asia/Kolkata:20260601T073000
DTEND;TZID=Asia/Kolkata:20260604T163000
LOCATION:6506 U.S. Hwy 31, Tanner, AL 35671
SUMMARY:ABB Robotics – Programming I (6-1-2026)
DESCRIPTION:The goal of this course is to teach students the basics in programming industry robots with IRC5 controllers. 
END:VEVENT
END:VCALENDAR